BEGIN:VCALENDAR
VERSION:2.0
PRODID:spatie/icalendar-generator
DESCRIPTION:Events from Grace Methodist Church
X-WR-CALDESC:Events from Grace Methodist Church
REFRESH-INTERVAL;VALUE=DURATION:PT1440M
X-PUBLISHED-TTL:PT1440M
BEGIN:VTIMEZONE
TZID:Etc/GMT+0
BEGIN:STANDARD
DTSTART:20250124T090000Z
TZOFFSETFROM:+0000
TZOFFSETTO:+0000
END:STANDARD
END:VTIMEZONE
BEGIN:VTIMEZONE
TZID:UTC
BEGIN:STANDARD
DTSTART:20250728T180305Z
TZOFFSETFROM:+0000
TZOFFSETTO:+0000
END:STANDARD
END:VTIMEZONE
BEGIN:VEVENT
UID:255-207
DTSTAMP:20260424T180305Z
SUMMARY:Grace@Stewpot
LOCATION:
ORGANIZER;CN=Earlean Frye:MAILTO:gracemethodist585@gmail.com
DTSTART;TZID=Etc/GMT+0:20251021T090000
DTEND;TZID=Etc/GMT+0:20251021T100000
X-ALT-DESC;FMTTYPE=TEXT/HTML:
CATEGORIES:General
URL;VALUE=URI:http://gracemethodist.net/mc-events/gracestewpot-7/
METHOD:PUBLISH
END:VEVENT
END:VCALENDAR