BEGIN:VCALENDAR
VERSION:2.0
PRODID:spatie/icalendar-generator
DESCRIPTION:Events from Grace Methodist Church
X-WR-CALDESC:Events from Grace Methodist Church
REFRESH-INTERVAL;VALUE=DURATION:PT1440M
X-PUBLISHED-TTL:PT1440M
BEGIN:VTIMEZONE
TZID:Etc/GMT+0
BEGIN:STANDARD
DTSTART:20250205T110000Z
TZOFFSETFROM:+0000
TZOFFSETTO:+0000
END:STANDARD
END:VTIMEZONE
BEGIN:VTIMEZONE
TZID:UTC
BEGIN:STANDARD
DTSTART:20250729T112716Z
TZOFFSETFROM:+0000
TZOFFSETTO:+0000
END:STANDARD
END:VTIMEZONE
BEGIN:VEVENT
UID:270-222
DTSTAMP:20260425T112716Z
SUMMARY:Worship/Communion/Communion Rail Offering
LOCATION:
ORGANIZER;CN=Earlean Frye:MAILTO:gracemethodist585@gmail.com
DTSTART;TZID=Etc/GMT+0:20251102T110000
DTEND;TZID=Etc/GMT+0:20251102T120000
X-ALT-DESC;FMTTYPE=TEXT/HTML:
CATEGORIES:General
URL;VALUE=URI:http://gracemethodist.net/mc-events/worship-communion-communi
 on-rail-offering-4/
METHOD:PUBLISH
END:VEVENT
END:VCALENDAR